BEGIN:VCALENDAR
VERSION:2.0
PRODID:-//hacksw/handcal//NONSGML v1.0//EN
BEGIN:VEVENT
SUMMARY:Running
UID:ab701fe1-ffd1-4d12-81ef-2c6b954cde36
DTSTART:20260429T163000Z
DTEND:20260429T180000Z
LOCATION:Localisation Stade OFFARD, 2 rue de Verden 49400 SAUMUR
CATEGORIES:Sportif
STATUS:
URL;VALUE=URI:https://www.slm49.com/evenements/2026/04/29/running-2336503
END:VEVENT
END:VCALENDAR
