BEGIN:VCALENDAR
VERSION:2.0
PRODID:-//hacksw/handcal//NONSGML v1.0//EN
BEGIN:VEVENT
SUMMARY:Running
UID:f4e12d2f-4d43-4e60-a3ec-dcec7828f70b
DTSTART:20260427T163000Z
DTEND:20260427T180000Z
LOCATION:Localisation Stade OFFARD, 2 rue de Verden 49400 SAUMUR
CATEGORIES:Sportif
STATUS:
URL;VALUE=URI:https://www.slm49.com/evenements/2026/04/27/running-2336502
END:VEVENT
END:VCALENDAR
